BEGIN:VCALENDAR
VERSION:2.0
PRODID:-//Frailty Science - ECPv6.15.20//NONSGML v1.0//EN
CALSCALE:GREGORIAN
METHOD:PUBLISH
X-WR-CALNAME:Frailty Science
X-ORIGINAL-URL:https://frailtyscience.org
X-WR-CALDESC:Events for Frailty Science
REFRESH-INTERVAL;VALUE=DURATION:PT1H
X-Robots-Tag:noindex
X-PUBLISHED-TTL:PT1H
BEGIN:VTIMEZONE
TZID:UTC
BEGIN:STANDARD
TZOFFSETFROM:+0000
TZOFFSETTO:+0000
TZNAME:UTC
DTSTART:20240101T000000
END:STANDARD
END:VTIMEZONE
BEGIN:VEVENT
DTSTART;TZID=UTC:20250611T090000
DTEND;TZID=UTC:20250611T100000
DTSTAMP:20260421T121516
CREATED:20250423T185130Z
LAST-MODIFIED:20250605T144438Z
UID:1308-1749632400-1749636000@frailtyscience.org
SUMMARY:Innovative Design\, Testing\, and Implementation of Frailty Interventions Seminar Series
DESCRIPTION:Zoom seminar. Presentation by Dr. Jordan Gunning on “Optimizing Healthy Aging with Personalized Lifestyle Interventions” \n\n\n\nZoom: https://tinyurl.com/5n8wbfev \n\n\n\nContact: bbuta@jhu.edu
URL:https://frailtyscience.org/event/innovative-design-testing-and-implementation-of-frailty-interventions-seminar-series/
END:VEVENT
BEGIN:VEVENT
DTSTART;TZID=UTC:20250625T090000
DTEND;TZID=UTC:20250625T100000
DTSTAMP:20260421T121516
CREATED:20250605T144610Z
LAST-MODIFIED:20250605T144844Z
UID:1313-1750842000-1750845600@frailtyscience.org
SUMMARY:Frailty and Multisystem Dysregulation Working Group Meeting
DESCRIPTION:Zoom meeting. Presentation by Dr. Vijay Varma (SilverStay) \n\n\n\nContact bbuta@jhu.edu
URL:https://frailtyscience.org/event/frailty-and-multisystem-dysregulation-working-group-meeting-20/
END:VEVENT
END:VCALENDAR