BEGIN:VCALENDAR
VERSION:2.0
PRODID:-//Frailty Science - ECPv6.15.20//NONSGML v1.0//EN
CALSCALE:GREGORIAN
METHOD:PUBLISH
X-WR-CALNAME:Frailty Science
X-ORIGINAL-URL:https://frailtyscience.org
X-WR-CALDESC:Events for Frailty Science
REFRESH-INTERVAL;VALUE=DURATION:PT1H
X-Robots-Tag:noindex
X-PUBLISHED-TTL:PT1H
BEGIN:VTIMEZONE
TZID:UTC
BEGIN:STANDARD
TZOFFSETFROM:+0000
TZOFFSETTO:+0000
TZNAME:UTC
DTSTART:20230101T000000
END:STANDARD
END:VTIMEZONE
BEGIN:VEVENT
DTSTART;TZID=UTC:20240710T090000
DTEND;TZID=UTC:20240710T100000
DTSTAMP:20260425T110625
CREATED:20240529T200155Z
LAST-MODIFIED:20240626T031226Z
UID:1221-1720602000-1720605600@frailtyscience.org
SUMMARY:Frailty and Multisystem Dysregulation Working Group Meeting
DESCRIPTION:Please contact bbuta@jhu.edu for more information on how to participate.
URL:https://frailtyscience.org/event/frailty-and-multisystem-dysregulation-working-group-meeting-9/
END:VEVENT
BEGIN:VEVENT
DTSTART;TZID=UTC:20240710T120000
DTEND;TZID=UTC:20240710T130000
DTSTAMP:20260425T110625
CREATED:20240626T031145Z
LAST-MODIFIED:20240626T031148Z
UID:1236-1720612800-1720616400@frailtyscience.org
SUMMARY:Frailty Seminar Series (Global Frailty Network)
DESCRIPTION:Panel discussion on “Geroscience Interventions that Target Frailty.” Please visit https://www.globalfrailty.org/ for more information.
URL:https://frailtyscience.org/event/frailty-seminar-series-global-frailty-network-2/
END:VEVENT
END:VCALENDAR