BEGIN:VCALENDAR
VERSION:2.0
PRODID:-//Frailty Science - ECPv6.15.20//NONSGML v1.0//EN
CALSCALE:GREGORIAN
METHOD:PUBLISH
X-WR-CALNAME:Frailty Science
X-ORIGINAL-URL:https://frailtyscience.org
X-WR-CALDESC:Events for Frailty Science
REFRESH-INTERVAL;VALUE=DURATION:PT1H
X-Robots-Tag:noindex
X-PUBLISHED-TTL:PT1H
BEGIN:VTIMEZONE
TZID:UTC
BEGIN:STANDARD
TZOFFSETFROM:+0000
TZOFFSETTO:+0000
TZNAME:UTC
DTSTART:20220101T000000
END:STANDARD
END:VTIMEZONE
BEGIN:VEVENT
DTSTART;TZID=UTC:20231213T090000
DTEND;TZID=UTC:20231213T100000
DTSTAMP:20260421T013935
CREATED:20231204T164712Z
LAST-MODIFIED:20231204T164714Z
UID:1157-1702458000-1702461600@frailtyscience.org
SUMMARY:Frailty and Multisystem Dysregulation Working Group Meeting
DESCRIPTION:Twice-monthly meeting on Zoom. Contact bbuta@jhu.edu for more information
URL:https://frailtyscience.org/event/frailty-and-multisystem-dysregulation-working-group-meeting/
END:VEVENT
BEGIN:VEVENT
DTSTART;VALUE=DATE:20230913
DTEND;VALUE=DATE:20230914
DTSTAMP:20260421T013935
CREATED:20231107T212216Z
LAST-MODIFIED:20231107T212925Z
UID:926-1694563200-1694649599@frailtyscience.org
SUMMARY:The Relationship between Physical Frailty and Resiliency
DESCRIPTION:Watch the recording of Dr. Jeremy Walston’s lecture on “The Relationship between Physical Frailty and Resiliency.”  This presentation was recorded on Sept. 13\, 2023\, and it was the first session of the 2023-2024 Frailty Seminar Series led by the Global Frailty Network.  View the recording here. \nThe Frailty Seminar Series September 13\, 2023: The Relationship between Physical Frailty and Resiliency
URL:https://frailtyscience.org/event/watch-dr-jeremy-walstons-9-13-2023-presentation-the-relationship-between-physical-frailty-and-resiliency/
LOCATION:Virtual
ATTACH;FMTTYPE=image/png:https://frailtyscience.org/wp-content/uploads/2023/09/walston_seminar.png
END:VEVENT
END:VCALENDAR